BEGIN:VCALENDAR
VERSION:2.0
PRODID:-// - ECPv6.15.20//NONSGML v1.0//EN
CALSCALE:GREGORIAN
METHOD:PUBLISH
X-ORIGINAL-URL:https://bricherpaerdsstall.lu
X-WR-CALDESC:Veranstaltungen für 
REFRESH-INTERVAL;VALUE=DURATION:PT1H
X-Robots-Tag:noindex
X-PUBLISHED-TTL:PT1H
BEGIN:VTIMEZONE
TZID:Europe/Luxembourg
BEGIN:DAYLIGHT
TZOFFSETFROM:+0100
TZOFFSETTO:+0200
TZNAME:CEST
DTSTART:20250330T010000
END:DAYLIGHT
BEGIN:STANDARD
TZOFFSETFROM:+0200
TZOFFSETTO:+0100
TZNAME:CET
DTSTART:20251026T010000
END:STANDARD
BEGIN:DAYLIGHT
TZOFFSETFROM:+0100
TZOFFSETTO:+0200
TZNAME:CEST
DTSTART:20260329T010000
END:DAYLIGHT
BEGIN:STANDARD
TZOFFSETFROM:+0200
TZOFFSETTO:+0100
TZNAME:CET
DTSTART:20261025T010000
END:STANDARD
BEGIN:DAYLIGHT
TZOFFSETFROM:+0100
TZOFFSETTO:+0200
TZNAME:CEST
DTSTART:20270328T010000
END:DAYLIGHT
BEGIN:STANDARD
TZOFFSETFROM:+0200
TZOFFSETTO:+0100
TZNAME:CET
DTSTART:20271031T010000
END:STANDARD
END:VTIMEZONE
BEGIN:VEVENT
DTSTART;TZID=Europe/Luxembourg:20260909T093000
DTEND;TZID=Europe/Luxembourg:20260911T160000
DTSTAMP:20260425T141025
CREATED:20260415T154306Z
LAST-MODIFIED:20260415T154306Z
UID:2451-1788946200-1789142400@bricherpaerdsstall.lu
SUMMARY:Reitlehrgang für fortgeschrittene Reiter
DESCRIPTION:(Mittagessen inbegriffen)\n \nEin Intensivkurs\, um die Reitkennnisse unserer motivierten Reiter auf ein neues Level zu bringen und tiefere Einblicke in die Kunst des feinen Reitens zu gewinnen!.\nUnsere lizensierte Reitlehrerin (Trainer B/FN) führt uns in diesem Lehrgang durch ein vielfältiges Praxisund Theorieprogramm\,\ndas sich aus\, Dressurreiten\, Stangenarbeit\, Longieren und Bodenarbeit zusammensetzt \n Reitkenntnisse erforderlich/ Plätze begrenzt  \nAlter: ab 11 Jahre  \nPreis: 225€
URL:https://bricherpaerdsstall.lu/event/reitlehrgang-fur-fortgeschrittene-reiter-2/
END:VEVENT
END:VCALENDAR