BEGIN:VCALENDAR
VERSION:2.0
PRODID:-// - ECPv6.15.20//NONSGML v1.0//EN
CALSCALE:GREGORIAN
METHOD:PUBLISH
X-ORIGINAL-URL:https://bricherpaerdsstall.lu
X-WR-CALDESC:Veranstaltungen für 
REFRESH-INTERVAL;VALUE=DURATION:PT1H
X-Robots-Tag:noindex
X-PUBLISHED-TTL:PT1H
BEGIN:VTIMEZONE
TZID:Europe/Luxembourg
BEGIN:DAYLIGHT
TZOFFSETFROM:+0100
TZOFFSETTO:+0200
TZNAME:CEST
DTSTART:20250330T010000
END:DAYLIGHT
BEGIN:STANDARD
TZOFFSETFROM:+0200
TZOFFSETTO:+0100
TZNAME:CET
DTSTART:20251026T010000
END:STANDARD
BEGIN:DAYLIGHT
TZOFFSETFROM:+0100
TZOFFSETTO:+0200
TZNAME:CEST
DTSTART:20260329T010000
END:DAYLIGHT
BEGIN:STANDARD
TZOFFSETFROM:+0200
TZOFFSETTO:+0100
TZNAME:CET
DTSTART:20261025T010000
END:STANDARD
BEGIN:DAYLIGHT
TZOFFSETFROM:+0100
TZOFFSETTO:+0200
TZNAME:CEST
DTSTART:20270328T010000
END:DAYLIGHT
BEGIN:STANDARD
TZOFFSETFROM:+0200
TZOFFSETTO:+0100
TZNAME:CET
DTSTART:20271031T010000
END:STANDARD
END:VTIMEZONE
BEGIN:VEVENT
DTSTART;TZID=Europe/Luxembourg:20260826T093000
DTEND;TZID=Europe/Luxembourg:20260828T160000
DTSTAMP:20260425T040527
CREATED:20260415T153958Z
LAST-MODIFIED:20260415T153958Z
UID:2447-1787736600-1787932800@bricherpaerdsstall.lu
SUMMARY:Dressurlehrgang für fortgeschrittene Reiter
DESCRIPTION: (Mittagessen inbegriffen)  \nEin Intensivkurs\, um die Reitkennnisse unserer motivierten Reiter auf ein neues Level zu bringen und tiefere Einblicke in die Kunst des feinen Reitens zu gewinnen!.\nUnsere lizensierte Reitlehrerin (Trainer B/FN) führt uns in diesem Lehrgang durch ein vielfältiges Praxisund Theorieprogramm\,\ndas sich aus\, Dressurreiten\, Stangenarbeit\, Longieren und Bodenarbeit zusammensetzt \n Reitkenntnisse erforderlich/ Plätze begrenzt  \nAlter: ab 11 Jahre  \nPreis: 225€
URL:https://bricherpaerdsstall.lu/event/dressurlehrgang-fur-fortgeschrittene-reiter-2/
END:VEVENT
BEGIN:VEVENT
DTSTART;TZID=Europe/Luxembourg:20260826T100000
DTEND;TZID=Europe/Luxembourg:20260828T150000
DTSTAMP:20260425T040527
CREATED:20260415T153717Z
LAST-MODIFIED:20260415T153744Z
UID:2444-1787738400-1787929200@bricherpaerdsstall.lu
SUMMARY:Zirkustage
DESCRIPTION:(Mittagessen inbegriffen) \nZirkus … Zirkus! Wir verwandeln den Hof in eine Zirkusmanege und üben gemeinsam mit unseren Hoftieren\nkleine Vorführungen ein. Und natürlich sind wir auch kleine Akrobaten und jonglieren\,\nbalancieren und turnen wie im Zirkus. Der Fantasie sind keine Grenzen gesetzt. \nAlter: 6-12 Jahre  \nPreis: 155€
URL:https://bricherpaerdsstall.lu/event/zirkustage-3/
END:VEVENT
END:VCALENDAR