BEGIN:VCALENDAR
VERSION:2.0
PRODID:-// - ECPv6.15.20//NONSGML v1.0//EN
CALSCALE:GREGORIAN
METHOD:PUBLISH
X-ORIGINAL-URL:https://bricherpaerdsstall.lu
X-WR-CALDESC:Veranstaltungen für 
REFRESH-INTERVAL;VALUE=DURATION:PT1H
X-Robots-Tag:noindex
X-PUBLISHED-TTL:PT1H
BEGIN:VTIMEZONE
TZID:Europe/Luxembourg
BEGIN:DAYLIGHT
TZOFFSETFROM:+0100
TZOFFSETTO:+0200
TZNAME:CEST
DTSTART:20250330T010000
END:DAYLIGHT
BEGIN:STANDARD
TZOFFSETFROM:+0200
TZOFFSETTO:+0100
TZNAME:CET
DTSTART:20251026T010000
END:STANDARD
BEGIN:DAYLIGHT
TZOFFSETFROM:+0100
TZOFFSETTO:+0200
TZNAME:CEST
DTSTART:20260329T010000
END:DAYLIGHT
BEGIN:STANDARD
TZOFFSETFROM:+0200
TZOFFSETTO:+0100
TZNAME:CET
DTSTART:20261025T010000
END:STANDARD
BEGIN:DAYLIGHT
TZOFFSETFROM:+0100
TZOFFSETTO:+0200
TZNAME:CEST
DTSTART:20270328T010000
END:DAYLIGHT
BEGIN:STANDARD
TZOFFSETFROM:+0200
TZOFFSETTO:+0100
TZNAME:CET
DTSTART:20271031T010000
END:STANDARD
END:VTIMEZONE
BEGIN:VEVENT
DTSTART;TZID=Europe/Luxembourg:20260812T093000
DTEND;TZID=Europe/Luxembourg:20260814T160000
DTSTAMP:20260424T130240
CREATED:20260415T153120Z
LAST-MODIFIED:20260415T153120Z
UID:2439-1786527000-1786723200@bricherpaerdsstall.lu
SUMMARY:Springlehrgang
DESCRIPTION:(Mittagessen inbegriffen) \nFür unsere fortgeschrittenen Reiter! \nDu möchtest noch mehr über Stangenarbeit und Springgymnastik lernen?\nDann sei dabei! Unsere gut ausgebildeten Schulpferde und unsere lizenzierte Reitlehrerin (Trainer B) erwarten Euch. \n„Abwechslung“ für Pferd und Reiter. \nAlter: ab 12 Jahre  \nPreis: 245€
URL:https://bricherpaerdsstall.lu/event/springlehrgang-2/
END:VEVENT
BEGIN:VEVENT
DTSTART;TZID=Europe/Luxembourg:20260812T100000
DTEND;TZID=Europe/Luxembourg:20260814T150000
DTSTAMP:20260424T130240
CREATED:20260415T152926Z
LAST-MODIFIED:20260415T152926Z
UID:2437-1786528800-1786719600@bricherpaerdsstall.lu
SUMMARY:Zirkustage
DESCRIPTION:(Mittagessen inbegriffen) \nZirkus … Zirkus! Wir verwandeln den Hof in eine Zirkusmanege und üben gemeinsam mit unseren Hoftieren\nkleine Vorführungen ein. Und natürlich sind wir auch kleine Akrobaten und jonglieren\,\nbalancieren und turnen wie im Zirkus. Der Fantasie sind keine Grenzen gesetzt. \nAlter: 6-12 Jahre  \nPreis: 155€
URL:https://bricherpaerdsstall.lu/event/zirkustage-2/
END:VEVENT
END:VCALENDAR