BEGIN:VCALENDAR
VERSION:2.0
PRODID:-// - ECPv6.15.20//NONSGML v1.0//EN
CALSCALE:GREGORIAN
METHOD:PUBLISH
X-ORIGINAL-URL:https://bricherpaerdsstall.lu
X-WR-CALDESC:Veranstaltungen für 
REFRESH-INTERVAL;VALUE=DURATION:PT1H
X-Robots-Tag:noindex
X-PUBLISHED-TTL:PT1H
BEGIN:VTIMEZONE
TZID:Europe/Luxembourg
BEGIN:DAYLIGHT
TZOFFSETFROM:+0100
TZOFFSETTO:+0200
TZNAME:CEST
DTSTART:20250330T010000
END:DAYLIGHT
BEGIN:STANDARD
TZOFFSETFROM:+0200
TZOFFSETTO:+0100
TZNAME:CET
DTSTART:20251026T010000
END:STANDARD
BEGIN:DAYLIGHT
TZOFFSETFROM:+0100
TZOFFSETTO:+0200
TZNAME:CEST
DTSTART:20260329T010000
END:DAYLIGHT
BEGIN:STANDARD
TZOFFSETFROM:+0200
TZOFFSETTO:+0100
TZNAME:CET
DTSTART:20261025T010000
END:STANDARD
BEGIN:DAYLIGHT
TZOFFSETFROM:+0100
TZOFFSETTO:+0200
TZNAME:CEST
DTSTART:20270328T010000
END:DAYLIGHT
BEGIN:STANDARD
TZOFFSETFROM:+0200
TZOFFSETTO:+0100
TZNAME:CET
DTSTART:20271031T010000
END:STANDARD
END:VTIMEZONE
BEGIN:VEVENT
DTSTART;TZID=Europe/Luxembourg:20260727T090000
DTEND;TZID=Europe/Luxembourg:20260731T163000
DTSTAMP:20260423T212423
CREATED:20260407T125629Z
LAST-MODIFIED:20260407T125655Z
UID:2428-1785142800-1785515400@bricherpaerdsstall.lu
SUMMARY:Bauernhof-Erlebniswoche
DESCRIPTION:(Frühstück\, Mittagessen und Nachmittagssnack)  \nFünf Tage Eintauchen in die Welt des Bauernhofs – ein unvergessliches Erlebnis! \nUnsere jungen Kursteilnehmer können beim Alltag auf dem Bauernhof mithelfen\, während sie die Schönheit der Natur genießen und\nviel über das Leben auf dem Bauernhof lernen. \nUnd weil auf dem Bauernhof auch der Spaß nicht zu kurz kommen darf\, gibt es zusätzlich viele aufregende Aktivitäten\,\nwie zum Beispiel Ponyreiten oder eine Schnitzeljagd\, Ziegenwanderung\, Lagerfeuer und noch vieles mehr – lasst Euch überraschen. \nAlter: 6 – 15 Jahre  \nPreis: 345€
URL:https://bricherpaerdsstall.lu/event/bauernhof-erlebniswoche/
END:VEVENT
END:VCALENDAR